BEGIN:VCALENDAR
PRODID:-//Volkshochschule beider Basel//vhsbb//DE
VERSION:2.0
METHOD:PUBLISH
BEGIN:VEVENT
DTSTART:20251015T123000Z
DTEND:20251015T140000Z
DTSTAMP:20260421T090652Z
UID:c455b2de-0256-4a62-8481-b97e0b0fe820
CREATED:20260421T090652Z
X-ALT-DESC;FMTTYPE=text/html:Weitere Informationen finden Sie hier: https://www.vhsbb.ch/kursprogramm/anmeldung-einzeleintritt-online-292047/was-ist-politische-demographie-296798
LAST-MODIFIED:20260421T090652Z
LOCATION:online
SEQUENCE:0
STATUS:CONFIRMED
SUMMARY:Termin vom Kurs: Was ist politische Demographie?
TRANSP:OPAQUE
END:VEVENT
END:VCALENDAR
