BEGIN:VCALENDAR
PRODID:-//Volkshochschule beider Basel//vhsbb//DE
VERSION:2.0
METHOD:PUBLISH
BEGIN:VEVENT
DTSTART:20251020T123000Z
DTEND:20251020T140000Z
DTSTAMP:20260421T080529Z
UID:abffdccc-c249-4582-a241-02b2e6055b5a
CREATED:20260421T080529Z
X-ALT-DESC;FMTTYPE=text/html:Weitere Informationen finden Sie hier: https://www.vhsbb.ch/kursprogramm/anmeldung-einzeleintritt-online-292047/klassische-und-moderne-datenanalyse-in-der-psychologie-296799
LAST-MODIFIED:20260421T080529Z
LOCATION:online
SEQUENCE:0
STATUS:CONFIRMED
SUMMARY:Termin vom Kurs: Klassische und moderne Datenanalyse in der Psychologie
TRANSP:OPAQUE
END:VEVENT
END:VCALENDAR
