BEGIN:VCALENDAR
PRODID:-//Volkshochschule beider Basel//vhsbb//DE
VERSION:2.0
METHOD:PUBLISH
BEGIN:VEVENT
DTSTART:20251027T133000Z
DTEND:20251027T150000Z
DTSTAMP:20260419T131815Z
UID:4bdbf724-1ceb-4c3e-95fe-d1e399bd0c4e
CREATED:20260419T131815Z
X-ALT-DESC;FMTTYPE=text/html:Weitere Informationen finden Sie hier: https://www.vhsbb.ch/kursprogramm/anmeldung-einzeleintritt-online-292047/der-umgang-mit-oligarchengeldern-in-der-schweiz-296801
LAST-MODIFIED:20260419T131815Z
LOCATION:online
SEQUENCE:0
STATUS:CONFIRMED
SUMMARY:Termin vom Kurs: Der Umgang mit Oligarchengeldern in der Schweiz
TRANSP:OPAQUE
END:VEVENT
END:VCALENDAR
