BEGIN:VCALENDAR
PRODID:-//Volkshochschule beider Basel//vhsbb//DE
VERSION:2.0
METHOD:PUBLISH
BEGIN:VEVENT
DTSTART:20260511T123000Z
DTEND:20260511T140000Z
DTSTAMP:20260419T173217Z
UID:a03d9b57-07af-4ccf-bfa2-4b6775aa4ce3
CREATED:20260419T173217Z
X-ALT-DESC;FMTTYPE=text/html:Weitere Informationen finden Sie hier: https://www.vhsbb.ch/kursprogramm/anmeldung-einzeleintritt-online-292047/einsamkeit--die-herausforderung-unserer-zeit-296802
LAST-MODIFIED:20260419T173217Z
LOCATION:online
SEQUENCE:0
STATUS:CONFIRMED
SUMMARY:Termin vom Kurs: Einsamkeit – die Herausforderung unserer Zeit
TRANSP:OPAQUE
END:VEVENT
END:VCALENDAR
