BEGIN:VCALENDAR
PRODID:-//Volkshochschule beider Basel//vhsbb//DE
VERSION:2.0
METHOD:PUBLISH
BEGIN:VEVENT
DTSTART:20251103T133000Z
DTEND:20251103T150000Z
DTSTAMP:20260419T145419Z
UID:6a5e74e7-a5b1-41f6-a5c4-d625dec3daed
CREATED:20260419T145419Z
X-ALT-DESC;FMTTYPE=text/html:Weitere Informationen finden Sie hier: https://www.vhsbb.ch/kursprogramm/anmeldung-einzeleintritt-online-292047/reiseassoziierte-erkrankungen--wie-bleibt-man-gesund-auf-reisen-296803
LAST-MODIFIED:20260419T145419Z
LOCATION:online
SEQUENCE:0
STATUS:CONFIRMED
SUMMARY:Termin vom Kurs: Reise-assoziierte Erkrankungen –  wie bleibt man gesund auf Reisen?
TRANSP:OPAQUE
END:VEVENT
END:VCALENDAR
