BEGIN:VCALENDAR
PRODID:-//Volkshochschule beider Basel//vhsbb//DE
VERSION:2.0
METHOD:PUBLISH
BEGIN:VEVENT
DTSTART:20251105T133000Z
DTEND:20251105T150000Z
DTSTAMP:20260419T162849Z
UID:b828a867-d83c-4b2d-8d27-d2c46e9d350d
CREATED:20260419T162849Z
X-ALT-DESC;FMTTYPE=text/html:Weitere Informationen finden Sie hier: https://www.vhsbb.ch/kursprogramm/anmeldung-einzeleintritt-online-292047/die-schweizerische-volkswirtschaft-und-ihre-banken-in-historischer-perspektive-296804
LAST-MODIFIED:20260419T162849Z
LOCATION:online
SEQUENCE:0
STATUS:CONFIRMED
SUMMARY:Termin vom Kurs: Die Schweizerische Volkswirtschaft und ihre Banken in historischer Perspektive
TRANSP:OPAQUE
END:VEVENT
END:VCALENDAR
