BEGIN:VCALENDAR
PRODID:-//Volkshochschule beider Basel//vhsbb//DE
VERSION:2.0
METHOD:PUBLISH
BEGIN:VEVENT
DTSTART:20251110T133000Z
DTEND:20251110T150000Z
DTSTAMP:20260419T174829Z
UID:3158c710-75af-43ea-8e46-7d8e752d6fc1
CREATED:20260419T174829Z
X-ALT-DESC;FMTTYPE=text/html:Weitere Informationen finden Sie hier: https://www.vhsbb.ch/kursprogramm/anmeldung-einzeleintritt-online-292047/was-haben-kreativitaet-und-religion-miteinander-zu-tun-neue-theologische-einsichten-der-gegenwart-296805
LAST-MODIFIED:20260419T174829Z
LOCATION:online
SEQUENCE:0
STATUS:CONFIRMED
SUMMARY:Termin vom Kurs: Was haben Kreativität und Religion miteinander zu tun? Neue theologische Einsichten der Gegenwart
TRANSP:OPAQUE
END:VEVENT
END:VCALENDAR
