BEGIN:VCALENDAR
PRODID:-//Volkshochschule beider Basel//vhsbb//DE
VERSION:2.0
METHOD:PUBLISH
BEGIN:VEVENT
DTSTART:20251112T133000Z
DTEND:20251112T150000Z
DTSTAMP:20260419T193944Z
UID:fc3785bd-191b-4258-a52f-d223f7b72e51
CREATED:20260419T193944Z
X-ALT-DESC;FMTTYPE=text/html:Weitere Informationen finden Sie hier: https://www.vhsbb.ch/kursprogramm/anmeldung-einzeleintritt-online-292047/kritische-kikompetenz-fuer-eine-verantwortungsbewusste-digitale-gesellschaft-296806
LAST-MODIFIED:20260419T193944Z
LOCATION:online
SEQUENCE:0
STATUS:CONFIRMED
SUMMARY:Termin vom Kurs: Kritische KI-Kompetenz für eine verantwortungsbewusste digitale Gesellschaft
TRANSP:OPAQUE
END:VEVENT
END:VCALENDAR
