BEGIN:VCALENDAR
PRODID:-//Volkshochschule beider Basel//vhsbb//DE
VERSION:2.0
METHOD:PUBLISH
BEGIN:VEVENT
DTSTART:20251117T133000Z
DTEND:20251117T150000Z
DTSTAMP:20260419T212437Z
UID:88a4d643-01fb-482d-8a01-51f06b17e39f
CREATED:20260419T212437Z
X-ALT-DESC;FMTTYPE=text/html:Weitere Informationen finden Sie hier: https://www.vhsbb.ch/kursprogramm/anmeldung-einzeleintritt-online-292047/konzernverantwortung-und-nachhaltigkeit-in-lieferketten-296807
LAST-MODIFIED:20260419T212437Z
LOCATION:online
SEQUENCE:0
STATUS:CONFIRMED
SUMMARY:Termin vom Kurs: Konzernverantwortung und Nachhaltigkeit in Lieferketten
TRANSP:OPAQUE
END:VEVENT
END:VCALENDAR
