BEGIN:VCALENDAR
PRODID:-//Volkshochschule beider Basel//vhsbb//DE
VERSION:2.0
METHOD:PUBLISH
BEGIN:VEVENT
DTSTART:20251119T133000Z
DTEND:20251119T150000Z
DTSTAMP:20260421T080623Z
UID:66c137a6-ff01-4c30-861f-469ae2ca86e5
CREATED:20260421T080623Z
X-ALT-DESC;FMTTYPE=text/html:Weitere Informationen finden Sie hier: https://www.vhsbb.ch/kursprogramm/anmeldung-einzeleintritt-online-292047/rechtliche-instrumente-gegen-die-wohnungsnot-eine-kritische-analyse-296808
LAST-MODIFIED:20260421T080623Z
LOCATION:online
SEQUENCE:0
STATUS:CONFIRMED
SUMMARY:Termin vom Kurs: Rechtliche Instrumente gegen die Wohnungsnot: Eine kritische Analyse
TRANSP:OPAQUE
END:VEVENT
END:VCALENDAR
