BEGIN:VCALENDAR
PRODID:-//Volkshochschule beider Basel//vhsbb//DE
VERSION:2.0
METHOD:PUBLISH
BEGIN:VEVENT
DTSTART:20251124T133000Z
DTEND:20251124T150000Z
DTSTAMP:20260420T003428Z
UID:d2d92509-1755-4310-a577-3fb0f9190221
CREATED:20260420T003428Z
X-ALT-DESC;FMTTYPE=text/html:Weitere Informationen finden Sie hier: https://www.vhsbb.ch/kursprogramm/anmeldung-einzeleintritt-online-292047/die-onkologie-der-zukunft-296809
LAST-MODIFIED:20260420T003428Z
LOCATION:online
SEQUENCE:0
STATUS:CONFIRMED
SUMMARY:Termin vom Kurs: Die Onkologie der Zukunft
TRANSP:OPAQUE
END:VEVENT
END:VCALENDAR
