BEGIN:VCALENDAR
PRODID:-//Volkshochschule beider Basel//vhsbb//DE
VERSION:2.0
METHOD:PUBLISH
BEGIN:VEVENT
DTSTART:20251126T133000Z
DTEND:20251126T150000Z
DTSTAMP:20260420T021718Z
UID:be1faa49-fafe-4b48-ab3f-752e1e0042a9
CREATED:20260420T021718Z
X-ALT-DESC;FMTTYPE=text/html:Weitere Informationen finden Sie hier: https://www.vhsbb.ch/kursprogramm/anmeldung-einzeleintritt-online-292047/preistreiberei-oder-kostendruck-im-detailhandel-warum-ist-die-schweiz-so-teuer-296810
LAST-MODIFIED:20260420T021718Z
LOCATION:online
SEQUENCE:0
STATUS:CONFIRMED
SUMMARY:Termin vom Kurs: Preistreiberei oder Kostendruck im Detailhandel: Warum ist die Schweiz so teuer?
TRANSP:OPAQUE
END:VEVENT
END:VCALENDAR
