BEGIN:VCALENDAR
PRODID:-//Volkshochschule beider Basel//vhsbb//DE
VERSION:2.0
METHOD:PUBLISH
BEGIN:VEVENT
DTSTART:20251201T133000Z
DTEND:20251201T150000Z
DTSTAMP:20260420T035039Z
UID:c15bafa0-3d5f-4357-b801-912f7b936ceb
CREATED:20260420T035039Z
X-ALT-DESC;FMTTYPE=text/html:Weitere Informationen finden Sie hier: https://www.vhsbb.ch/kursprogramm/anmeldung-einzeleintritt-online-292047/hivaids--ist-ein-ende-der-epidemie-absehbar-296811
LAST-MODIFIED:20260420T035039Z
LOCATION:online
SEQUENCE:0
STATUS:CONFIRMED
SUMMARY:Termin vom Kurs: HIV/AIDS – ist ein Ende der Epidemie absehbar?
TRANSP:OPAQUE
END:VEVENT
END:VCALENDAR
