BEGIN:VCALENDAR
PRODID:-//Volkshochschule beider Basel//vhsbb//DE
VERSION:2.0
METHOD:PUBLISH
BEGIN:VEVENT
DTSTART:20251203T133000Z
DTEND:20251203T150000Z
DTSTAMP:20260420T051205Z
UID:79adec16-f5da-4002-b0dd-ca2a05a5be36
CREATED:20260420T051205Z
X-ALT-DESC;FMTTYPE=text/html:Weitere Informationen finden Sie hier: https://www.vhsbb.ch/kursprogramm/anmeldung-einzeleintritt-online-292047/der-traum-von-der-klassischen-literatur-traumerzaehlungen-in-der-lateinischen-literatur-der-fruehen-neuzeit-296812
LAST-MODIFIED:20260420T051205Z
LOCATION:online
SEQUENCE:0
STATUS:CONFIRMED
SUMMARY:Termin vom Kurs: Der Traum von der klassischen Literatur. Traumerzählungen in der lateinischen Literatur der frühen Neuzeit


TRANSP:OPAQUE
END:VEVENT
END:VCALENDAR
