BEGIN:VCALENDAR
PRODID:-//Volkshochschule beider Basel//vhsbb//DE
VERSION:2.0
METHOD:PUBLISH
BEGIN:VEVENT
DTSTART:20251208T133000Z
DTEND:20251208T150000Z
DTSTAMP:20260420T063438Z
UID:90f0b18f-a331-43c5-9ab8-31fb7cee828b
CREATED:20260420T063438Z
X-ALT-DESC;FMTTYPE=text/html:Weitere Informationen finden Sie hier: https://www.vhsbb.ch/kursprogramm/anmeldung-einzeleintritt-online-292047/migration-und-kulturelle-transformation-griechen-einheimische-und-phoenizier-im-antiken-sueditalien-296813
LAST-MODIFIED:20260420T063438Z
LOCATION:online
SEQUENCE:0
STATUS:CONFIRMED
SUMMARY:Termin vom Kurs: Migration und kulturelle Transformation: Griechen, Einheimische und Phönizier im antiken Süditalien
TRANSP:OPAQUE
END:VEVENT
END:VCALENDAR
