BEGIN:VCALENDAR
PRODID:-//Volkshochschule beider Basel//vhsbb//DE
VERSION:2.0
METHOD:PUBLISH
BEGIN:VEVENT
DTSTART:20251210T133000Z
DTEND:20251210T150000Z
DTSTAMP:20260420T080042Z
UID:ab1b0305-e0de-4821-ac83-35122481505b
CREATED:20260420T080042Z
X-ALT-DESC;FMTTYPE=text/html:Weitere Informationen finden Sie hier: https://www.vhsbb.ch/kursprogramm/anmeldung-einzeleintritt-online-292047/kommt-die-schweiz-ohne-kernkraft-aus-um-den-energiebedarf-zu-decken-296814
LAST-MODIFIED:20260420T080042Z
LOCATION:online
SEQUENCE:0
STATUS:CONFIRMED
SUMMARY:Termin vom Kurs: Kommt die Schweiz ohne Kernkraft aus, um den Energiebedarf zu decken?
TRANSP:OPAQUE
END:VEVENT
END:VCALENDAR
