BEGIN:VCALENDAR
PRODID:-//Volkshochschule beider Basel//vhsbb//DE
VERSION:2.0
METHOD:PUBLISH
BEGIN:VEVENT
DTSTART:20251215T133000Z
DTEND:20251215T150000Z
DTSTAMP:20260420T094323Z
UID:1e47c9c4-257d-4ff0-afcb-7ed379ee8349
CREATED:20260420T094323Z
X-ALT-DESC;FMTTYPE=text/html:Weitere Informationen finden Sie hier: https://www.vhsbb.ch/kursprogramm/anmeldung-einzeleintritt-online-292047/forensische-genetik-was-kann-die-dnaanalyse-leisten-296815
LAST-MODIFIED:20260420T094323Z
LOCATION:online
SEQUENCE:0
STATUS:CONFIRMED
SUMMARY:Termin vom Kurs: Forensische Genetik: Was kann die DNA-Analyse leisten?
TRANSP:OPAQUE
END:VEVENT
END:VCALENDAR
