BEGIN:VCALENDAR
PRODID:-//Volkshochschule beider Basel//vhsbb//DE
VERSION:2.0
METHOD:PUBLISH
BEGIN:VEVENT
DTSTART:20251217T133000Z
DTEND:20251217T150000Z
DTSTAMP:20260420T110710Z
UID:469d10ef-c139-4653-946a-8d585c258506
CREATED:20260420T110710Z
X-ALT-DESC;FMTTYPE=text/html:Weitere Informationen finden Sie hier: https://www.vhsbb.ch/kursprogramm/anmeldung-einzeleintritt-online-292047/mueckenuebertragbare-viren--ein-nicht-nur-tropisches-problem-296816
LAST-MODIFIED:20260420T110710Z
LOCATION:online
SEQUENCE:0
STATUS:CONFIRMED
SUMMARY:Termin vom Kurs: Mücken-übertragbare Viren – ein (nicht nur) tropisches Problem
TRANSP:OPAQUE
END:VEVENT
END:VCALENDAR
