BEGIN:VCALENDAR
PRODID:-//Volkshochschule beider Basel//vhsbb//DE
VERSION:2.0
METHOD:PUBLISH
BEGIN:VEVENT
DTSTART:20260209T133000Z
DTEND:20260209T150000Z
DTSTAMP:20260420T124640Z
UID:d18aad5f-c314-41e2-8025-aca928a85e80
CREATED:20260420T124640Z
X-ALT-DESC;FMTTYPE=text/html:Weitere Informationen finden Sie hier: https://www.vhsbb.ch/kursprogramm/anmeldung-einzeleintritt-online-292047/betonpolitik-die-falschen-versprechen-von-entwicklung-durch-infrastrukturen-296817
LAST-MODIFIED:20260420T124640Z
LOCATION:online
SEQUENCE:0
STATUS:CONFIRMED
SUMMARY:Termin vom Kurs: Betonpolitik: Die falschen Versprechen von Entwicklung durch Infrastrukturen
TRANSP:OPAQUE
END:VEVENT
END:VCALENDAR
