BEGIN:VCALENDAR
PRODID:-//Volkshochschule beider Basel//vhsbb//DE
VERSION:2.0
METHOD:PUBLISH
BEGIN:VEVENT
DTSTART:20260211T133000Z
DTEND:20260211T150000Z
DTSTAMP:20260420T142221Z
UID:e3f5906e-e2a1-4e84-a715-b4e6245b5056
CREATED:20260420T142221Z
X-ALT-DESC;FMTTYPE=text/html:Weitere Informationen finden Sie hier: https://www.vhsbb.ch/kursprogramm/anmeldung-einzeleintritt-online-292047/molekuele-im-galopp--auf-du--du-mit-den-molekuelen-des-lebens-296818
LAST-MODIFIED:20260420T142221Z
LOCATION:online
SEQUENCE:0
STATUS:CONFIRMED
SUMMARY:Termin vom Kurs: Moleküle im Galopp – auf Du & Du mit den Molekülen des Lebens
TRANSP:OPAQUE
END:VEVENT
END:VCALENDAR
