BEGIN:VCALENDAR
PRODID:-//Volkshochschule beider Basel//vhsbb//DE
VERSION:2.0
METHOD:PUBLISH
BEGIN:VEVENT
DTSTART:20260302T133000Z
DTEND:20260302T150000Z
DTSTAMP:20260420T155716Z
UID:cc7b4fda-595f-41e5-8446-fca41cb28a2b
CREATED:20260420T155716Z
X-ALT-DESC;FMTTYPE=text/html:Weitere Informationen finden Sie hier: https://www.vhsbb.ch/kursprogramm/anmeldung-einzeleintritt-online-292047/turbulente-stroemungen-was-sagt-die-mathematik-296819
LAST-MODIFIED:20260420T155716Z
LOCATION:online
SEQUENCE:0
STATUS:CONFIRMED
SUMMARY:Termin vom Kurs: Turbulente Strömungen: Was sagt die Mathematik?
TRANSP:OPAQUE
END:VEVENT
END:VCALENDAR
