BEGIN:VCALENDAR
PRODID:-//Volkshochschule beider Basel//vhsbb//DE
VERSION:2.0
METHOD:PUBLISH
BEGIN:VEVENT
DTSTART:20260304T133000Z
DTEND:20260304T150000Z
DTSTAMP:20260420T171248Z
UID:69dec272-a4bd-4be8-8c77-44de0d884269
CREATED:20260420T171248Z
X-ALT-DESC;FMTTYPE=text/html:Weitere Informationen finden Sie hier: https://www.vhsbb.ch/kursprogramm/anmeldung-einzeleintritt-online-292047/staatsverschuldung-probates-mittel-der-wirtschaftspolitik-oder-potentieller-krisenherd-296820
LAST-MODIFIED:20260420T171248Z
LOCATION:online
SEQUENCE:0
STATUS:CONFIRMED
SUMMARY:Termin vom Kurs: Staatsverschuldung. Probates Mittel der Wirtschaftspolitik oder potentieller Krisenherd?
TRANSP:OPAQUE
END:VEVENT
END:VCALENDAR
