BEGIN:VCALENDAR
PRODID:-//Volkshochschule beider Basel//vhsbb//DE
VERSION:2.0
METHOD:PUBLISH
BEGIN:VEVENT
DTSTART:20260309T133000Z
DTEND:20260309T150000Z
DTSTAMP:20260420T153823Z
UID:8340f7aa-4366-4dba-8c7b-4d9e2ba49acb
CREATED:20260420T153823Z
X-ALT-DESC;FMTTYPE=text/html:Weitere Informationen finden Sie hier: https://www.vhsbb.ch/kursprogramm/anmeldung-einzeleintritt-online-292047/sind-psychedelische-drogen-medikamente-296821
LAST-MODIFIED:20260420T153823Z
LOCATION:online
SEQUENCE:0
STATUS:CONFIRMED
SUMMARY:Termin vom Kurs: Sind psychedelische Drogen Medikamente?
TRANSP:OPAQUE
END:VEVENT
END:VCALENDAR
