BEGIN:VCALENDAR
PRODID:-//Volkshochschule beider Basel//vhsbb//DE
VERSION:2.0
METHOD:PUBLISH
BEGIN:VEVENT
DTSTART:20260311T133000Z
DTEND:20260311T150000Z
DTSTAMP:20260420T140638Z
UID:ae4ec83a-53ca-47a2-9df7-7d75dc7a0417
CREATED:20260420T140638Z
X-ALT-DESC;FMTTYPE=text/html:Weitere Informationen finden Sie hier: https://www.vhsbb.ch/kursprogramm/anmeldung-einzeleintritt-online-292047/kuenstliche-embryonen-als-herausforderung-fuer-das-recht-296822
LAST-MODIFIED:20260420T140638Z
LOCATION:online
SEQUENCE:0
STATUS:CONFIRMED
SUMMARY:Termin vom Kurs: Künstliche Embryonen als Herausforderung für das Recht
TRANSP:OPAQUE
END:VEVENT
END:VCALENDAR
