BEGIN:VCALENDAR
PRODID:-//Volkshochschule beider Basel//vhsbb//DE
VERSION:2.0
METHOD:PUBLISH
BEGIN:VEVENT
DTSTART:20260316T133000Z
DTEND:20260316T150000Z
DTSTAMP:20260420T122835Z
UID:c926aca6-f5fe-4dec-9478-e212bdf09a27
CREATED:20260420T122835Z
X-ALT-DESC;FMTTYPE=text/html:Weitere Informationen finden Sie hier: https://www.vhsbb.ch/kursprogramm/anmeldung-einzeleintritt-online-292047/vom-kloster-zur-wissenschaft-verbreitung-und-wandel-buddhistischer-meditation-und-achtsamkeit--von-asien-bis-in-die-schweiz-296823
LAST-MODIFIED:20260420T122835Z
LOCATION:online
SEQUENCE:0
STATUS:CONFIRMED
SUMMARY:Termin vom Kurs: Vom Kloster zur Wissenschaft: Verbreitung und Wandel buddhistischer Meditation und Achtsamkeit –  von Asien bis in die Schweiz

TRANSP:OPAQUE
END:VEVENT
END:VCALENDAR
