BEGIN:VCALENDAR
PRODID:-//Volkshochschule beider Basel//vhsbb//DE
VERSION:2.0
METHOD:PUBLISH
BEGIN:VEVENT
DTSTART:20260318T133000Z
DTEND:20260318T150000Z
DTSTAMP:20260420T105508Z
UID:39d5f874-d302-48b0-b1b9-6173ae549c52
CREATED:20260420T105508Z
X-ALT-DESC;FMTTYPE=text/html:Weitere Informationen finden Sie hier: https://www.vhsbb.ch/kursprogramm/anmeldung-einzeleintritt-online-292047/droht-ki-den-menschen-zu-ersetzen-evidenz-und-perspektiven-der-psychologie-296824
LAST-MODIFIED:20260420T105508Z
LOCATION:online
SEQUENCE:0
STATUS:CONFIRMED
SUMMARY:Termin vom Kurs: Droht KI den Menschen zu ersetzen? Evidenz und Perspektiven der Psychologie
TRANSP:OPAQUE
END:VEVENT
END:VCALENDAR
