BEGIN:VCALENDAR
PRODID:-//Volkshochschule beider Basel//vhsbb//DE
VERSION:2.0
METHOD:PUBLISH
BEGIN:VEVENT
DTSTART:20260323T133000Z
DTEND:20260323T150000Z
DTSTAMP:20260420T091613Z
UID:14cb23b9-9dde-47ca-be14-a86c38cd691c
CREATED:20260420T091613Z
X-ALT-DESC;FMTTYPE=text/html:Weitere Informationen finden Sie hier: https://www.vhsbb.ch/kursprogramm/anmeldung-einzeleintritt-online-292047/wird-kuenstliche-intelligenz-die-universitaet-ersetzen-296825
LAST-MODIFIED:20260420T091613Z
LOCATION:online
SEQUENCE:0
STATUS:CONFIRMED
SUMMARY:Termin vom Kurs: Wird Künstliche Intelligenz die Universität ersetzen?
TRANSP:OPAQUE
END:VEVENT
END:VCALENDAR
