BEGIN:VCALENDAR
PRODID:-//Volkshochschule beider Basel//vhsbb//DE
VERSION:2.0
METHOD:PUBLISH
BEGIN:VEVENT
DTSTART:20260325T133000Z
DTEND:20260325T150000Z
DTSTAMP:20260420T074316Z
UID:845aa51d-9b43-4a3c-aa00-2d79cd10aed7
CREATED:20260420T074316Z
X-ALT-DESC;FMTTYPE=text/html:Weitere Informationen finden Sie hier: https://www.vhsbb.ch/kursprogramm/anmeldung-einzeleintritt-online-292047/fernerkundung--forschen-in-der-schwerelosigkeit-296826
LAST-MODIFIED:20260420T074316Z
LOCATION:online
SEQUENCE:0
STATUS:CONFIRMED
SUMMARY:Termin vom Kurs: Fernerkundung – Forschen in der Schwerelosigkeit
TRANSP:OPAQUE
END:VEVENT
END:VCALENDAR
