BEGIN:VCALENDAR
PRODID:-//Volkshochschule beider Basel//vhsbb//DE
VERSION:2.0
METHOD:PUBLISH
BEGIN:VEVENT
DTSTART:20260413T123000Z
DTEND:20260413T140000Z
DTSTAMP:20260420T061017Z
UID:674dd4ed-0eac-46e6-b70b-402090831c60
CREATED:20260420T061017Z
X-ALT-DESC;FMTTYPE=text/html:Weitere Informationen finden Sie hier: https://www.vhsbb.ch/kursprogramm/anmeldung-einzeleintritt-online-292047/lieferkettenhaftung-von-schweizer-unternehmen-nach-geltendem-schweizerischem-und-kuenftigem-eurecht-296827
LAST-MODIFIED:20260420T061017Z
LOCATION:online
SEQUENCE:0
STATUS:CONFIRMED
SUMMARY:Termin vom Kurs: Lieferkettenhaftung von Schweizer Unternehmen nach geltendem schweizerischem und künftigem EU-Recht
TRANSP:OPAQUE
END:VEVENT
END:VCALENDAR
