BEGIN:VCALENDAR
PRODID:-//Volkshochschule beider Basel//vhsbb//DE
VERSION:2.0
METHOD:PUBLISH
BEGIN:VEVENT
DTSTART:20260415T123000Z
DTEND:20260415T140000Z
DTSTAMP:20260420T044943Z
UID:aba365b5-b957-4091-966f-cc09f8682a2e
CREATED:20260420T044943Z
X-ALT-DESC;FMTTYPE=text/html:Weitere Informationen finden Sie hier: https://www.vhsbb.ch/kursprogramm/anmeldung-einzeleintritt-online-292047/auf-herz-und-niere-pruefen-296828
LAST-MODIFIED:20260420T044943Z
LOCATION:online
SEQUENCE:0
STATUS:CONFIRMED
SUMMARY:Termin vom Kurs: Auf Herz und Niere prüfen
TRANSP:OPAQUE
END:VEVENT
END:VCALENDAR
