BEGIN:VCALENDAR
PRODID:-//Volkshochschule beider Basel//vhsbb//DE
VERSION:2.0
METHOD:PUBLISH
BEGIN:VEVENT
DTSTART:20260420T123000Z
DTEND:20260420T140000Z
DTSTAMP:20260420T031806Z
UID:e7f88b10-e019-40b1-a0bf-61e2a195db39
CREATED:20260420T031806Z
X-ALT-DESC;FMTTYPE=text/html:Weitere Informationen finden Sie hier: https://www.vhsbb.ch/kursprogramm/anmeldung-einzeleintritt-online-292047/soziale-bildmedien-und-kritische-theorie-296829
LAST-MODIFIED:20260420T031806Z
LOCATION:online
SEQUENCE:0
STATUS:CONFIRMED
SUMMARY:Termin vom Kurs: Soziale (Bild-)Medien und Kritische Theorie
TRANSP:OPAQUE
END:VEVENT
END:VCALENDAR
