BEGIN:VCALENDAR
PRODID:-//Volkshochschule beider Basel//vhsbb//DE
VERSION:2.0
METHOD:PUBLISH
BEGIN:VEVENT
DTSTART:20260422T123000Z
DTEND:20260422T140000Z
DTSTAMP:20260420T014213Z
UID:576405a7-d64f-43bf-ba16-fe38e46ddfd1
CREATED:20260420T014213Z
X-ALT-DESC;FMTTYPE=text/html:Weitere Informationen finden Sie hier: https://www.vhsbb.ch/kursprogramm/anmeldung-einzeleintritt-online-292047/ansaetze-zur-gesundheit-von-menschen-tieren-pflanzen-und-der-nachhaltigen-nutzung-natuerlicher-ressourcen-296830
LAST-MODIFIED:20260420T014213Z
LOCATION:online
SEQUENCE:0
STATUS:CONFIRMED
SUMMARY:Termin vom Kurs: Ansätze zur Gesundheit von Menschen, Tieren, Pflanzen und der nachhaltigen Nutzung natürlicher Ressourcen
TRANSP:OPAQUE
END:VEVENT
END:VCALENDAR
