BEGIN:VCALENDAR
PRODID:-//Volkshochschule beider Basel//vhsbb//DE
VERSION:2.0
METHOD:PUBLISH
BEGIN:VEVENT
DTSTART:20260427T123000Z
DTEND:20260427T140000Z
DTSTAMP:20260420T001637Z
UID:a2e6eb54-8ec8-43c8-952a-6e713e62864e
CREATED:20260420T001637Z
X-ALT-DESC;FMTTYPE=text/html:Weitere Informationen finden Sie hier: https://www.vhsbb.ch/kursprogramm/anmeldung-einzeleintritt-online-292047/frauen-und-maennerherzen-schlagen-unterschiedlich-ein-nachteil-fuer-das-alternde-frauenherz-296831
LAST-MODIFIED:20260420T001637Z
LOCATION:online
SEQUENCE:0
STATUS:CONFIRMED
SUMMARY:Termin vom Kurs: Frauen- und Männerherzen schlagen unterschiedlich. Ein Nachteil für das alternde Frauenherz?
TRANSP:OPAQUE
END:VEVENT
END:VCALENDAR
