BEGIN:VCALENDAR
PRODID:-//Volkshochschule beider Basel//vhsbb//DE
VERSION:2.0
METHOD:PUBLISH
BEGIN:VEVENT
DTSTART:20260429T123000Z
DTEND:20260429T140000Z
DTSTAMP:20260419T224314Z
UID:7e431c07-6521-418d-a1e9-db2fa54ec8a9
CREATED:20260419T224314Z
X-ALT-DESC;FMTTYPE=text/html:Weitere Informationen finden Sie hier: https://www.vhsbb.ch/kursprogramm/anmeldung-einzeleintritt-online-292047/das-unbewusste-der-vererbung-erinnerung-materialitaet-tod-296832
LAST-MODIFIED:20260419T224314Z
LOCATION:online
SEQUENCE:0
STATUS:CONFIRMED
SUMMARY:Termin vom Kurs: Das Unbewusste der Vererbung: Erinnerung, Materialität, Tod
TRANSP:OPAQUE
END:VEVENT
END:VCALENDAR
