BEGIN:VCALENDAR
PRODID:-//Volkshochschule beider Basel//vhsbb//DE
VERSION:2.0
METHOD:PUBLISH
BEGIN:VEVENT
DTSTART:20260504T123000Z
DTEND:20260504T140000Z
DTSTAMP:20260419T205904Z
UID:c8d38fe7-dc63-4668-a7e1-68df0a78814c
CREATED:20260419T205904Z
X-ALT-DESC;FMTTYPE=text/html:Weitere Informationen finden Sie hier: https://www.vhsbb.ch/kursprogramm/anmeldung-einzeleintritt-online-292047/wie-genschere-und-zellulaere-therapien-heilen-koennen-296833
LAST-MODIFIED:20260419T205904Z
LOCATION:online
SEQUENCE:0
STATUS:CONFIRMED
SUMMARY:Termin vom Kurs: Wie Genschere und zelluläre Therapien heilen können
TRANSP:OPAQUE
END:VEVENT
END:VCALENDAR
