BEGIN:VCALENDAR
PRODID:-//Volkshochschule beider Basel//vhsbb//DE
VERSION:2.0
METHOD:PUBLISH
BEGIN:VEVENT
DTSTART:20260506T123000Z
DTEND:20260506T140000Z
DTSTAMP:20260419T191342Z
UID:3cbd1b23-11f3-4028-aacc-8c2c16dee667
CREATED:20260419T191342Z
X-ALT-DESC;FMTTYPE=text/html:Weitere Informationen finden Sie hier: https://www.vhsbb.ch/kursprogramm/anmeldung-einzeleintritt-online-292047/ki-im-pricing-von-firmen-und-ihre-auswirkung-auf-die-wettbewerbspolitik-296834
LAST-MODIFIED:20260419T191342Z
LOCATION:online
SEQUENCE:0
STATUS:CONFIRMED
SUMMARY:Termin vom Kurs: KI im Pricing von Firmen und ihre Auswirkung auf die Wettbewerbspolitik
TRANSP:OPAQUE
END:VEVENT
END:VCALENDAR
