BEGIN:VCALENDAR
PRODID:-//Volkshochschule beider Basel//vhsbb//DE
VERSION:2.0
METHOD:PUBLISH
BEGIN:VEVENT
DTSTART:20260518T123000Z
DTEND:20260518T140000Z
DTSTAMP:20260419T130104Z
UID:af963ac4-3b2e-4d86-a5d0-2200ec7c2fc6
CREATED:20260419T130104Z
X-ALT-DESC;FMTTYPE=text/html:Weitere Informationen finden Sie hier: https://www.vhsbb.ch/kursprogramm/anmeldung-einzeleintritt-online-292047/notfall--sturz-im-hoeheren-lebensalter-296835
LAST-MODIFIED:20260419T130104Z
LOCATION:online
SEQUENCE:0
STATUS:CONFIRMED
SUMMARY:Termin vom Kurs: Notfall – Sturz im höheren Lebensalter
TRANSP:OPAQUE
END:VEVENT
END:VCALENDAR
