BEGIN:VCALENDAR
PRODID:-//Volkshochschule beider Basel//vhsbb//DE
VERSION:2.0
METHOD:PUBLISH
NAME:VHSBB
X-WR-CALNAME:VHSBB
DESCRIPTION:VHSBB
BEGIN:VEVENT
DTSTART:20260423T071500Z
DTEND:20260423T081500Z
DTSTAMP:20260421T080528Z
UID:a2a87fe8-e734-4ac6-8781-3d5f616f219c
CREATED:20260421T080528Z
X-ALT-DESC;FMTTYPE=text/html:Weitere Informationen finden Sie hier: https://www.vhsbb.ch/kursprogramm/basel-295092/fuehrungen-durch-den-zoo-basel-297197
LAST-MODIFIED:20260421T080528Z
LOCATION:Zoo Basel, Binningerstrasse 40, Basel [Treffpunkt: Haupteingang]
SEQUENCE:0
STATUS:CONFIRMED
SUMMARY:Termin vom Kurs: Führungen durch den Zoo Basel
TRANSP:OPAQUE
END:VEVENT
BEGIN:VEVENT
DTSTART:20260430T071500Z
DTEND:20260430T081500Z
DTSTAMP:20260421T080528Z
UID:b058524d-c345-4ddd-b600-536f5fa0a6e1
CREATED:20260421T080528Z
X-ALT-DESC;FMTTYPE=text/html:Weitere Informationen finden Sie hier: https://www.vhsbb.ch/kursprogramm/basel-295092/fuehrungen-durch-den-zoo-basel-297197
LAST-MODIFIED:20260421T080528Z
LOCATION:Zoo Basel, Binningerstrasse 40, Basel [Treffpunkt: Haupteingang]
SEQUENCE:0
STATUS:CONFIRMED
SUMMARY:Termin vom Kurs: Führungen durch den Zoo Basel
TRANSP:OPAQUE
END:VEVENT
BEGIN:VEVENT
DTSTART:20260507T071500Z
DTEND:20260507T081500Z
DTSTAMP:20260421T080528Z
UID:a50633fe-2eec-4893-98e6-797f95f333b9
CREATED:20260421T080528Z
X-ALT-DESC;FMTTYPE=text/html:Weitere Informationen finden Sie hier: https://www.vhsbb.ch/kursprogramm/basel-295092/fuehrungen-durch-den-zoo-basel-297197
LAST-MODIFIED:20260421T080528Z
LOCATION:Zoo Basel, Binningerstrasse 40, Basel [Treffpunkt: Haupteingang]
SEQUENCE:0
STATUS:CONFIRMED
SUMMARY:Termin vom Kurs: Führungen durch den Zoo Basel
TRANSP:OPAQUE
END:VEVENT
BEGIN:VEVENT
DTSTART:20260521T071500Z
DTEND:20260521T081500Z
DTSTAMP:20260421T080528Z
UID:31202656-1b96-4968-a379-5924f43bc068
CREATED:20260421T080528Z
X-ALT-DESC;FMTTYPE=text/html:Weitere Informationen finden Sie hier: https://www.vhsbb.ch/kursprogramm/basel-295092/fuehrungen-durch-den-zoo-basel-297197
LAST-MODIFIED:20260421T080528Z
LOCATION:Zoo Basel, Binningerstrasse 40, Basel [Treffpunkt: Haupteingang]
SEQUENCE:0
STATUS:CONFIRMED
SUMMARY:Termin vom Kurs: Führungen durch den Zoo Basel
TRANSP:OPAQUE
END:VEVENT
BEGIN:VEVENT
DTSTART:20260528T071500Z
DTEND:20260528T081500Z
DTSTAMP:20260421T080528Z
UID:469c6a64-7eaf-4fee-b24c-08f59423b907
CREATED:20260421T080528Z
X-ALT-DESC;FMTTYPE=text/html:Weitere Informationen finden Sie hier: https://www.vhsbb.ch/kursprogramm/basel-295092/fuehrungen-durch-den-zoo-basel-297197
LAST-MODIFIED:20260421T080528Z
LOCATION:Zoo Basel, Binningerstrasse 40, Basel [Treffpunkt: Haupteingang]
SEQUENCE:0
STATUS:CONFIRMED
SUMMARY:Termin vom Kurs: Führungen durch den Zoo Basel
TRANSP:OPAQUE
END:VEVENT
END:VCALENDAR
