BEGIN:VCALENDAR
PRODID:-//Volkshochschule beider Basel//vhsbb//DE
VERSION:2.0
METHOD:PUBLISH
NAME:VHSBB
X-WR-CALNAME:VHSBB
DESCRIPTION:VHSBB
BEGIN:VEVENT
DTSTART:20260423T084500Z
DTEND:20260423T094500Z
DTSTAMP:20260421T080448Z
UID:c23b775d-e3fd-4277-bcef-f88eda43f01a
CREATED:20260421T080448Z
X-ALT-DESC;FMTTYPE=text/html:Weitere Informationen finden Sie hier: https://www.vhsbb.ch/kursprogramm/basel-295092/fuehrungen-durch-den-zoo-basel-297198
LAST-MODIFIED:20260421T080448Z
LOCATION:Zoo Basel, Binningerstrasse 40, Basel [Treffpunkt: Haupteingang]
SEQUENCE:0
STATUS:CONFIRMED
SUMMARY:Termin vom Kurs: Führungen durch den Zoo Basel
TRANSP:OPAQUE
END:VEVENT
BEGIN:VEVENT
DTSTART:20260430T084500Z
DTEND:20260430T094500Z
DTSTAMP:20260421T080448Z
UID:adc0c7a0-ff6e-48c2-a372-ec64056cb63b
CREATED:20260421T080448Z
X-ALT-DESC;FMTTYPE=text/html:Weitere Informationen finden Sie hier: https://www.vhsbb.ch/kursprogramm/basel-295092/fuehrungen-durch-den-zoo-basel-297198
LAST-MODIFIED:20260421T080448Z
LOCATION:Zoo Basel, Binningerstrasse 40, Basel [Treffpunkt: Haupteingang]
SEQUENCE:0
STATUS:CONFIRMED
SUMMARY:Termin vom Kurs: Führungen durch den Zoo Basel
TRANSP:OPAQUE
END:VEVENT
BEGIN:VEVENT
DTSTART:20260507T084500Z
DTEND:20260507T094500Z
DTSTAMP:20260421T080448Z
UID:2b9289f5-39d1-4db4-92d6-7c8632847070
CREATED:20260421T080448Z
X-ALT-DESC;FMTTYPE=text/html:Weitere Informationen finden Sie hier: https://www.vhsbb.ch/kursprogramm/basel-295092/fuehrungen-durch-den-zoo-basel-297198
LAST-MODIFIED:20260421T080448Z
LOCATION:Zoo Basel, Binningerstrasse 40, Basel [Treffpunkt: Haupteingang]
SEQUENCE:0
STATUS:CONFIRMED
SUMMARY:Termin vom Kurs: Führungen durch den Zoo Basel
TRANSP:OPAQUE
END:VEVENT
BEGIN:VEVENT
DTSTART:20260521T084500Z
DTEND:20260521T094500Z
DTSTAMP:20260421T080448Z
UID:5466c65c-a010-4643-87de-6099cd253b03
CREATED:20260421T080448Z
X-ALT-DESC;FMTTYPE=text/html:Weitere Informationen finden Sie hier: https://www.vhsbb.ch/kursprogramm/basel-295092/fuehrungen-durch-den-zoo-basel-297198
LAST-MODIFIED:20260421T080448Z
LOCATION:Zoo Basel, Binningerstrasse 40, Basel [Treffpunkt: Haupteingang]
SEQUENCE:0
STATUS:CONFIRMED
SUMMARY:Termin vom Kurs: Führungen durch den Zoo Basel
TRANSP:OPAQUE
END:VEVENT
BEGIN:VEVENT
DTSTART:20260528T084500Z
DTEND:20260528T094500Z
DTSTAMP:20260421T080448Z
UID:7b8dd10b-4050-4feb-bca4-d1db246dcea9
CREATED:20260421T080448Z
X-ALT-DESC;FMTTYPE=text/html:Weitere Informationen finden Sie hier: https://www.vhsbb.ch/kursprogramm/basel-295092/fuehrungen-durch-den-zoo-basel-297198
LAST-MODIFIED:20260421T080448Z
LOCATION:Zoo Basel, Binningerstrasse 40, Basel [Treffpunkt: Haupteingang]
SEQUENCE:0
STATUS:CONFIRMED
SUMMARY:Termin vom Kurs: Führungen durch den Zoo Basel
TRANSP:OPAQUE
END:VEVENT
END:VCALENDAR
