BEGIN:VCALENDAR
PRODID:-//Volkshochschule beider Basel//vhsbb//DE
VERSION:2.0
METHOD:PUBLISH
NAME:VHSBB
X-WR-CALNAME:VHSBB
DESCRIPTION:VHSBB
BEGIN:VEVENT
DTSTART:20260511T161500Z
DTEND:20260511T180000Z
DTSTAMP:20260421T080528Z
UID:df853494-0b77-4f41-8ddf-8312db92b0b2
CREATED:20260421T080528Z
X-ALT-DESC;FMTTYPE=text/html:Weitere Informationen finden Sie hier: https://www.vhsbb.ch/kursprogramm/basel-295092/vulkaninseln-297200
LAST-MODIFIED:20260421T080528Z
LOCATION:Universität Basel, Kollegienhaus, Petersplatz 1, Basel
SEQUENCE:0
STATUS:CONFIRMED
SUMMARY:Termin vom Kurs: Vulkaninseln
TRANSP:OPAQUE
END:VEVENT
BEGIN:VEVENT
DTSTART:20260518T161500Z
DTEND:20260518T180000Z
DTSTAMP:20260421T080528Z
UID:d283c5a5-9e13-4b00-b9b3-952c48367849
CREATED:20260421T080528Z
X-ALT-DESC;FMTTYPE=text/html:Weitere Informationen finden Sie hier: https://www.vhsbb.ch/kursprogramm/basel-295092/vulkaninseln-297200
LAST-MODIFIED:20260421T080528Z
LOCATION:Universität Basel, Kollegienhaus, Petersplatz 1, Basel
SEQUENCE:0
STATUS:CONFIRMED
SUMMARY:Termin vom Kurs: Vulkaninseln
TRANSP:OPAQUE
END:VEVENT
END:VCALENDAR
