BEGIN:VCALENDAR
PRODID:-//Volkshochschule beider Basel//vhsbb//DE
VERSION:2.0
METHOD:PUBLISH
NAME:VHSBB
X-WR-CALNAME:VHSBB
DESCRIPTION:VHSBB
BEGIN:VEVENT
DTSTART:20260818T163000Z
DTEND:20260818T180000Z
DTSTAMP:20260421T091825Z
UID:abc4b758-c682-4175-8932-3b5a8260950c
CREATED:20260421T091825Z
X-ALT-DESC;FMTTYPE=text/html:Weitere Informationen finden Sie hier: https://www.vhsbb.ch/kursprogramm/basel-295092/der-stimme-auf-der-spur-297226
LAST-MODIFIED:20260421T091825Z
LOCATION:Studio für Tanz und Gymnastik, St. Johanns Vorstadt 70, Basel
SEQUENCE:0
STATUS:CONFIRMED
SUMMARY:Termin vom Kurs: Der Stimme auf der Spur
TRANSP:OPAQUE
END:VEVENT
BEGIN:VEVENT
DTSTART:20260825T163000Z
DTEND:20260825T180000Z
DTSTAMP:20260421T091825Z
UID:fa0a29fa-9311-4be2-9c76-2bb06e629ac0
CREATED:20260421T091825Z
X-ALT-DESC;FMTTYPE=text/html:Weitere Informationen finden Sie hier: https://www.vhsbb.ch/kursprogramm/basel-295092/der-stimme-auf-der-spur-297226
LAST-MODIFIED:20260421T091825Z
LOCATION:Studio für Tanz und Gymnastik, St. Johanns Vorstadt 70, Basel
SEQUENCE:0
STATUS:CONFIRMED
SUMMARY:Termin vom Kurs: Der Stimme auf der Spur
TRANSP:OPAQUE
END:VEVENT
BEGIN:VEVENT
DTSTART:20260901T163000Z
DTEND:20260901T180000Z
DTSTAMP:20260421T091825Z
UID:c19ddaca-0370-4ced-93c1-3177954f7116
CREATED:20260421T091825Z
X-ALT-DESC;FMTTYPE=text/html:Weitere Informationen finden Sie hier: https://www.vhsbb.ch/kursprogramm/basel-295092/der-stimme-auf-der-spur-297226
LAST-MODIFIED:20260421T091825Z
LOCATION:Studio für Tanz und Gymnastik, St. Johanns Vorstadt 70, Basel
SEQUENCE:0
STATUS:CONFIRMED
SUMMARY:Termin vom Kurs: Der Stimme auf der Spur
TRANSP:OPAQUE
END:VEVENT
BEGIN:VEVENT
DTSTART:20260908T163000Z
DTEND:20260908T180000Z
DTSTAMP:20260421T091825Z
UID:0cd7e191-879d-4806-ba44-dd171f98c98b
CREATED:20260421T091825Z
X-ALT-DESC;FMTTYPE=text/html:Weitere Informationen finden Sie hier: https://www.vhsbb.ch/kursprogramm/basel-295092/der-stimme-auf-der-spur-297226
LAST-MODIFIED:20260421T091825Z
LOCATION:Studio für Tanz und Gymnastik, St. Johanns Vorstadt 70, Basel
SEQUENCE:0
STATUS:CONFIRMED
SUMMARY:Termin vom Kurs: Der Stimme auf der Spur
TRANSP:OPAQUE
END:VEVENT
END:VCALENDAR
