BEGIN:VCALENDAR
PRODID:-//Volkshochschule beider Basel//vhsbb//DE
VERSION:2.0
METHOD:PUBLISH
BEGIN:VEVENT
DTSTART:20260424T153000Z
DTEND:20260424T170000Z
DTSTAMP:20260421T090830Z
UID:9cf01bc7-1890-45d9-88ab-09eb7ea0bf92
CREATED:20260421T090830Z
X-ALT-DESC;FMTTYPE=text/html:Weitere Informationen finden Sie hier: https://www.vhsbb.ch/kursprogramm/einmal-205530/sammlung-ricola-297266
LAST-MODIFIED:20260421T090830Z
LOCATION:Laufen, Ricola AG, Baselstrasse 31
SEQUENCE:0
STATUS:CONFIRMED
SUMMARY:Termin vom Kurs: Sammlung Ricola
TRANSP:OPAQUE
END:VEVENT
END:VCALENDAR
