BEGIN:VCALENDAR
PRODID:-//Volkshochschule beider Basel//vhsbb//DE
VERSION:2.0
METHOD:PUBLISH
BEGIN:VEVENT
DTSTART:20260608T070000Z
DTEND:20260608T100000Z
DTSTAMP:20260421T080610Z
UID:b9af97e0-ef2e-4b20-84c0-493728d3b274
CREATED:20260421T080610Z
X-ALT-DESC;FMTTYPE=text/html:Weitere Informationen finden Sie hier: https://www.vhsbb.ch/kursprogramm/basel-295092/kuenstliche-intelligenz--was-mache-ich-damit-297271
LAST-MODIFIED:20260421T080610Z
LOCATION:Volkshochschule beider Basel, St. Alban-Vorstadt 5, Basel
SEQUENCE:0
STATUS:CONFIRMED
SUMMARY:Termin vom Kurs: Künstliche Intelligenz – was mache ich damit?
TRANSP:OPAQUE
END:VEVENT
END:VCALENDAR
