BEGIN:VCALENDAR
PRODID:-//Volkshochschule beider Basel//vhsbb//DE
VERSION:2.0
METHOD:PUBLISH
NAME:VHSBB
X-WR-CALNAME:VHSBB
DESCRIPTION:VHSBB
BEGIN:VEVENT
DTSTART:20260521T164500Z
DTEND:20260521T190000Z
DTSTAMP:20260423T083253Z
UID:b9187ff9-a76c-43c7-a001-2efc6525dc3a
CREATED:20260423T083253Z
X-ALT-DESC;FMTTYPE=text/html:Weitere Informationen finden Sie hier: https://www.vhsbb.ch/kursprogramm/basel-295092/ein-maerchen-schreiben-297276
LAST-MODIFIED:20260423T083253Z
LOCATION:Volkshochschule beider Basel, St. Alban-Vorstadt 5, Basel
SEQUENCE:0
STATUS:CONFIRMED
SUMMARY:Termin vom Kurs: Ein Märchen schreiben
TRANSP:OPAQUE
END:VEVENT
BEGIN:VEVENT
DTSTART:20260528T164500Z
DTEND:20260528T190000Z
DTSTAMP:20260423T083253Z
UID:dff78f92-c246-4ba5-a2b9-205fe531b2f4
CREATED:20260423T083253Z
X-ALT-DESC;FMTTYPE=text/html:Weitere Informationen finden Sie hier: https://www.vhsbb.ch/kursprogramm/basel-295092/ein-maerchen-schreiben-297276
LAST-MODIFIED:20260423T083253Z
LOCATION:Volkshochschule beider Basel, St. Alban-Vorstadt 5, Basel
SEQUENCE:0
STATUS:CONFIRMED
SUMMARY:Termin vom Kurs: Ein Märchen schreiben
TRANSP:OPAQUE
END:VEVENT
BEGIN:VEVENT
DTSTART:20260604T164500Z
DTEND:20260604T190000Z
DTSTAMP:20260423T083253Z
UID:f3f8a714-a507-45df-b40e-e3df0585e846
CREATED:20260423T083253Z
X-ALT-DESC;FMTTYPE=text/html:Weitere Informationen finden Sie hier: https://www.vhsbb.ch/kursprogramm/basel-295092/ein-maerchen-schreiben-297276
LAST-MODIFIED:20260423T083253Z
LOCATION:Volkshochschule beider Basel, St. Alban-Vorstadt 5, Basel
SEQUENCE:0
STATUS:CONFIRMED
SUMMARY:Termin vom Kurs: Ein Märchen schreiben
TRANSP:OPAQUE
END:VEVENT
BEGIN:VEVENT
DTSTART:20260611T164500Z
DTEND:20260611T190000Z
DTSTAMP:20260423T083253Z
UID:c2b2894c-8311-4cea-aec9-adfbd2ae57d0
CREATED:20260423T083253Z
X-ALT-DESC;FMTTYPE=text/html:Weitere Informationen finden Sie hier: https://www.vhsbb.ch/kursprogramm/basel-295092/ein-maerchen-schreiben-297276
LAST-MODIFIED:20260423T083253Z
LOCATION:Volkshochschule beider Basel, St. Alban-Vorstadt 5, Basel
SEQUENCE:0
STATUS:CONFIRMED
SUMMARY:Termin vom Kurs: Ein Märchen schreiben
TRANSP:OPAQUE
END:VEVENT
BEGIN:VEVENT
DTSTART:20260618T164500Z
DTEND:20260618T190000Z
DTSTAMP:20260423T083253Z
UID:ed74c7ab-90a3-47dc-b8b6-306b03340309
CREATED:20260423T083253Z
X-ALT-DESC;FMTTYPE=text/html:Weitere Informationen finden Sie hier: https://www.vhsbb.ch/kursprogramm/basel-295092/ein-maerchen-schreiben-297276
LAST-MODIFIED:20260423T083253Z
LOCATION:Volkshochschule beider Basel, St. Alban-Vorstadt 5, Basel
SEQUENCE:0
STATUS:CONFIRMED
SUMMARY:Termin vom Kurs: Ein Märchen schreiben
TRANSP:OPAQUE
END:VEVENT
BEGIN:VEVENT
DTSTART:20260625T164500Z
DTEND:20260625T190000Z
DTSTAMP:20260423T083253Z
UID:ca012d0b-5828-418e-b362-36fe4c9d3f61
CREATED:20260423T083253Z
X-ALT-DESC;FMTTYPE=text/html:Weitere Informationen finden Sie hier: https://www.vhsbb.ch/kursprogramm/basel-295092/ein-maerchen-schreiben-297276
LAST-MODIFIED:20260423T083253Z
LOCATION:Volkshochschule beider Basel, St. Alban-Vorstadt 5, Basel
SEQUENCE:0
STATUS:CONFIRMED
SUMMARY:Termin vom Kurs: Ein Märchen schreiben
TRANSP:OPAQUE
END:VEVENT
END:VCALENDAR
