BEGIN:VCALENDAR
PRODID:-//Volkshochschule beider Basel//vhsbb//DE
VERSION:2.0
METHOD:PUBLISH
NAME:VHSBB
X-WR-CALNAME:VHSBB
DESCRIPTION:VHSBB
BEGIN:VEVENT
DTSTART:20260421T093000Z
DTEND:20260421T113000Z
DTSTAMP:20260421T080610Z
UID:2f06b57e-b1cb-4b00-9c88-c67c571c2e65
CREATED:20260421T080610Z
X-ALT-DESC;FMTTYPE=text/html:Weitere Informationen finden Sie hier: https://www.vhsbb.ch/kursprogramm/basel-295092/grundkurs-computer-297349
LAST-MODIFIED:20260421T080610Z
LOCATION:Volkshochschule beider Basel, St. Alban-Vorstadt 5, Basel (Kursraum 1/EG)
SEQUENCE:0
STATUS:CONFIRMED
SUMMARY:Termin vom Kurs: Grundkurs Computer
TRANSP:OPAQUE
END:VEVENT
BEGIN:VEVENT
DTSTART:20260428T093000Z
DTEND:20260428T113000Z
DTSTAMP:20260421T080610Z
UID:3e0be651-4e53-459a-9715-edbec48f3fd3
CREATED:20260421T080610Z
X-ALT-DESC;FMTTYPE=text/html:Weitere Informationen finden Sie hier: https://www.vhsbb.ch/kursprogramm/basel-295092/grundkurs-computer-297349
LAST-MODIFIED:20260421T080610Z
LOCATION:Volkshochschule beider Basel, St. Alban-Vorstadt 5, Basel (Kursraum 1/EG)
SEQUENCE:0
STATUS:CONFIRMED
SUMMARY:Termin vom Kurs: Grundkurs Computer
TRANSP:OPAQUE
END:VEVENT
BEGIN:VEVENT
DTSTART:20260505T093000Z
DTEND:20260505T113000Z
DTSTAMP:20260421T080610Z
UID:c64c1679-375e-4f56-acc0-e882587d051a
CREATED:20260421T080610Z
X-ALT-DESC;FMTTYPE=text/html:Weitere Informationen finden Sie hier: https://www.vhsbb.ch/kursprogramm/basel-295092/grundkurs-computer-297349
LAST-MODIFIED:20260421T080610Z
LOCATION:Volkshochschule beider Basel, St. Alban-Vorstadt 5, Basel (Kursraum 1/EG)
SEQUENCE:0
STATUS:CONFIRMED
SUMMARY:Termin vom Kurs: Grundkurs Computer
TRANSP:OPAQUE
END:VEVENT
BEGIN:VEVENT
DTSTART:20260512T093000Z
DTEND:20260512T113000Z
DTSTAMP:20260421T080610Z
UID:aa27e5a8-0ed1-473f-b02a-da0738e2cf93
CREATED:20260421T080610Z
X-ALT-DESC;FMTTYPE=text/html:Weitere Informationen finden Sie hier: https://www.vhsbb.ch/kursprogramm/basel-295092/grundkurs-computer-297349
LAST-MODIFIED:20260421T080610Z
LOCATION:Volkshochschule beider Basel, St. Alban-Vorstadt 5, Basel (Kursraum 1/EG)
SEQUENCE:0
STATUS:CONFIRMED
SUMMARY:Termin vom Kurs: Grundkurs Computer
TRANSP:OPAQUE
END:VEVENT
BEGIN:VEVENT
DTSTART:20260519T093000Z
DTEND:20260519T113000Z
DTSTAMP:20260421T080610Z
UID:a59c575f-5b91-41cc-9e87-7d540c2afdb2
CREATED:20260421T080610Z
X-ALT-DESC;FMTTYPE=text/html:Weitere Informationen finden Sie hier: https://www.vhsbb.ch/kursprogramm/basel-295092/grundkurs-computer-297349
LAST-MODIFIED:20260421T080610Z
LOCATION:Volkshochschule beider Basel, St. Alban-Vorstadt 5, Basel (Kursraum 1/EG)
SEQUENCE:0
STATUS:CONFIRMED
SUMMARY:Termin vom Kurs: Grundkurs Computer
TRANSP:OPAQUE
END:VEVENT
BEGIN:VEVENT
DTSTART:20260526T093000Z
DTEND:20260526T113000Z
DTSTAMP:20260421T080610Z
UID:4b1de3d2-493c-498f-aec5-f8b42ca6ba27
CREATED:20260421T080610Z
X-ALT-DESC;FMTTYPE=text/html:Weitere Informationen finden Sie hier: https://www.vhsbb.ch/kursprogramm/basel-295092/grundkurs-computer-297349
LAST-MODIFIED:20260421T080610Z
LOCATION:Volkshochschule beider Basel, St. Alban-Vorstadt 5, Basel (Kursraum 1/EG)
SEQUENCE:0
STATUS:CONFIRMED
SUMMARY:Termin vom Kurs: Grundkurs Computer
TRANSP:OPAQUE
END:VEVENT
BEGIN:VEVENT
DTSTART:20260602T093000Z
DTEND:20260602T113000Z
DTSTAMP:20260421T080610Z
UID:1fae3cbe-29fa-4ef1-ad19-1ae03249274b
CREATED:20260421T080610Z
X-ALT-DESC;FMTTYPE=text/html:Weitere Informationen finden Sie hier: https://www.vhsbb.ch/kursprogramm/basel-295092/grundkurs-computer-297349
LAST-MODIFIED:20260421T080610Z
LOCATION:Volkshochschule beider Basel, St. Alban-Vorstadt 5, Basel (Kursraum 1/EG)
SEQUENCE:0
STATUS:CONFIRMED
SUMMARY:Termin vom Kurs: Grundkurs Computer
TRANSP:OPAQUE
END:VEVENT
BEGIN:VEVENT
DTSTART:20260609T093000Z
DTEND:20260609T113000Z
DTSTAMP:20260421T080610Z
UID:b88c135e-8e58-4552-b124-71fab3419fd4
CREATED:20260421T080610Z
X-ALT-DESC;FMTTYPE=text/html:Weitere Informationen finden Sie hier: https://www.vhsbb.ch/kursprogramm/basel-295092/grundkurs-computer-297349
LAST-MODIFIED:20260421T080610Z
LOCATION:Volkshochschule beider Basel, St. Alban-Vorstadt 5, Basel (Kursraum 1/EG)
SEQUENCE:0
STATUS:CONFIRMED
SUMMARY:Termin vom Kurs: Grundkurs Computer
TRANSP:OPAQUE
END:VEVENT
BEGIN:VEVENT
DTSTART:20260811T093000Z
DTEND:20260811T113000Z
DTSTAMP:20260421T080610Z
UID:df709dad-1cb4-41d8-8240-ca066897ceda
CREATED:20260421T080610Z
X-ALT-DESC;FMTTYPE=text/html:Weitere Informationen finden Sie hier: https://www.vhsbb.ch/kursprogramm/basel-295092/grundkurs-computer-297349
LAST-MODIFIED:20260421T080610Z
LOCATION:Volkshochschule beider Basel, St. Alban-Vorstadt 5, Basel (Kursraum 1/EG)
SEQUENCE:0
STATUS:CONFIRMED
SUMMARY:Termin vom Kurs: Grundkurs Computer
TRANSP:OPAQUE
END:VEVENT
BEGIN:VEVENT
DTSTART:20260818T093000Z
DTEND:20260818T113000Z
DTSTAMP:20260421T080610Z
UID:055638af-307f-4400-a9ce-e4ea50b8ad75
CREATED:20260421T080610Z
X-ALT-DESC;FMTTYPE=text/html:Weitere Informationen finden Sie hier: https://www.vhsbb.ch/kursprogramm/basel-295092/grundkurs-computer-297349
LAST-MODIFIED:20260421T080610Z
LOCATION:Volkshochschule beider Basel, St. Alban-Vorstadt 5, Basel (Kursraum 1/EG)
SEQUENCE:0
STATUS:CONFIRMED
SUMMARY:Termin vom Kurs: Grundkurs Computer
TRANSP:OPAQUE
END:VEVENT
BEGIN:VEVENT
DTSTART:20260825T093000Z
DTEND:20260825T113000Z
DTSTAMP:20260421T080610Z
UID:f6b5ad12-72bb-4c6c-a232-c3a6dda36748
CREATED:20260421T080610Z
X-ALT-DESC;FMTTYPE=text/html:Weitere Informationen finden Sie hier: https://www.vhsbb.ch/kursprogramm/basel-295092/grundkurs-computer-297349
LAST-MODIFIED:20260421T080610Z
LOCATION:Volkshochschule beider Basel, St. Alban-Vorstadt 5, Basel (Kursraum 1/EG)
SEQUENCE:0
STATUS:CONFIRMED
SUMMARY:Termin vom Kurs: Grundkurs Computer
TRANSP:OPAQUE
END:VEVENT
BEGIN:VEVENT
DTSTART:20260901T093000Z
DTEND:20260901T113000Z
DTSTAMP:20260421T080610Z
UID:d0af27d7-f817-42b3-b3e6-1cb6a1b28255
CREATED:20260421T080610Z
X-ALT-DESC;FMTTYPE=text/html:Weitere Informationen finden Sie hier: https://www.vhsbb.ch/kursprogramm/basel-295092/grundkurs-computer-297349
LAST-MODIFIED:20260421T080610Z
LOCATION:Volkshochschule beider Basel, St. Alban-Vorstadt 5, Basel (Kursraum 1/EG)
SEQUENCE:0
STATUS:CONFIRMED
SUMMARY:Termin vom Kurs: Grundkurs Computer
TRANSP:OPAQUE
END:VEVENT
BEGIN:VEVENT
DTSTART:20260908T093000Z
DTEND:20260908T113000Z
DTSTAMP:20260421T080610Z
UID:31da61ac-ab2f-403a-8782-33cbe6212087
CREATED:20260421T080610Z
X-ALT-DESC;FMTTYPE=text/html:Weitere Informationen finden Sie hier: https://www.vhsbb.ch/kursprogramm/basel-295092/grundkurs-computer-297349
LAST-MODIFIED:20260421T080610Z
LOCATION:Volkshochschule beider Basel, St. Alban-Vorstadt 5, Basel (Kursraum 1/EG)
SEQUENCE:0
STATUS:CONFIRMED
SUMMARY:Termin vom Kurs: Grundkurs Computer
TRANSP:OPAQUE
END:VEVENT
BEGIN:VEVENT
DTSTART:20260915T093000Z
DTEND:20260915T113000Z
DTSTAMP:20260421T080610Z
UID:2786c954-3293-49c3-8251-062b6a822844
CREATED:20260421T080610Z
X-ALT-DESC;FMTTYPE=text/html:Weitere Informationen finden Sie hier: https://www.vhsbb.ch/kursprogramm/basel-295092/grundkurs-computer-297349
LAST-MODIFIED:20260421T080610Z
LOCATION:Volkshochschule beider Basel, St. Alban-Vorstadt 5, Basel (Kursraum 1/EG)
SEQUENCE:0
STATUS:CONFIRMED
SUMMARY:Termin vom Kurs: Grundkurs Computer
TRANSP:OPAQUE
END:VEVENT
BEGIN:VEVENT
DTSTART:20260922T093000Z
DTEND:20260922T113000Z
DTSTAMP:20260421T080610Z
UID:00c373fe-1433-400d-981b-e2df35d05703
CREATED:20260421T080610Z
X-ALT-DESC;FMTTYPE=text/html:Weitere Informationen finden Sie hier: https://www.vhsbb.ch/kursprogramm/basel-295092/grundkurs-computer-297349
LAST-MODIFIED:20260421T080610Z
LOCATION:Volkshochschule beider Basel, St. Alban-Vorstadt 5, Basel (Kursraum 1/EG)
SEQUENCE:0
STATUS:CONFIRMED
SUMMARY:Termin vom Kurs: Grundkurs Computer
TRANSP:OPAQUE
END:VEVENT
END:VCALENDAR
