BEGIN:VCALENDAR
PRODID:-//Volkshochschule beider Basel//vhsbb//DE
VERSION:2.0
METHOD:PUBLISH
NAME:VHSBB
X-WR-CALNAME:VHSBB
DESCRIPTION:VHSBB
BEGIN:VEVENT
DTSTART:20260818T150000Z
DTEND:20260818T163000Z
DTSTAMP:20260419T123652Z
UID:53fee701-0191-47be-b2d4-75adbf28479d
CREATED:20260419T123652Z
X-ALT-DESC;FMTTYPE=text/html:Weitere Informationen finden Sie hier: https://www.vhsbb.ch/kursprogramm/basel-295092/varios-cursos-en-espanol/14/ceviche-el-peru-gastronomico-297576
LAST-MODIFIED:20260419T123652Z
LOCATION:Volkshochschule beider Basel, St. Alban-Vorstadt 5, Basel (Orangerie)
SEQUENCE:0
STATUS:CONFIRMED
SUMMARY:Termin vom Kurs: Ceviche - El Perú gastronómico
TRANSP:OPAQUE
END:VEVENT
BEGIN:VEVENT
DTSTART:20260825T150000Z
DTEND:20260825T163000Z
DTSTAMP:20260419T123652Z
UID:0de7bc03-63b1-4dd5-a145-d667cf830b57
CREATED:20260419T123652Z
X-ALT-DESC;FMTTYPE=text/html:Weitere Informationen finden Sie hier: https://www.vhsbb.ch/kursprogramm/basel-295092/varios-cursos-en-espanol/14/ceviche-el-peru-gastronomico-297576
LAST-MODIFIED:20260419T123652Z
LOCATION:Volkshochschule beider Basel, St. Alban-Vorstadt 5, Basel (Orangerie)
SEQUENCE:0
STATUS:CONFIRMED
SUMMARY:Termin vom Kurs: Ceviche - El Perú gastronómico
TRANSP:OPAQUE
END:VEVENT
BEGIN:VEVENT
DTSTART:20260901T150000Z
DTEND:20260901T163000Z
DTSTAMP:20260419T123652Z
UID:94b73d8d-9802-40ad-b3e8-e5a1f8352a18
CREATED:20260419T123652Z
X-ALT-DESC;FMTTYPE=text/html:Weitere Informationen finden Sie hier: https://www.vhsbb.ch/kursprogramm/basel-295092/varios-cursos-en-espanol/14/ceviche-el-peru-gastronomico-297576
LAST-MODIFIED:20260419T123652Z
LOCATION:Volkshochschule beider Basel, St. Alban-Vorstadt 5, Basel (Orangerie)
SEQUENCE:0
STATUS:CONFIRMED
SUMMARY:Termin vom Kurs: Ceviche - El Perú gastronómico
TRANSP:OPAQUE
END:VEVENT
BEGIN:VEVENT
DTSTART:20260908T150000Z
DTEND:20260908T163000Z
DTSTAMP:20260419T123652Z
UID:a4991c7f-c3e2-4758-bd50-0f7c866d04c3
CREATED:20260419T123652Z
X-ALT-DESC;FMTTYPE=text/html:Weitere Informationen finden Sie hier: https://www.vhsbb.ch/kursprogramm/basel-295092/varios-cursos-en-espanol/14/ceviche-el-peru-gastronomico-297576
LAST-MODIFIED:20260419T123652Z
LOCATION:Treffpunkt: Markthalle Basel, Haupteingang
SEQUENCE:0
STATUS:CONFIRMED
SUMMARY:Termin vom Kurs: Ceviche - El Perú gastronómico
TRANSP:OPAQUE
END:VEVENT
END:VCALENDAR
