BEGIN:VCALENDAR
PRODID:-//Volkshochschule beider Basel//vhsbb//DE
VERSION:2.0
METHOD:PUBLISH
NAME:VHSBB
X-WR-CALNAME:VHSBB
DESCRIPTION:VHSBB
BEGIN:VEVENT
DTSTART:20260428T161500Z
DTEND:20260428T180000Z
DTSTAMP:20260421T080448Z
UID:c6b7944e-3cb5-4ca5-9d8f-a25147252ed9
CREATED:20260421T080448Z
X-ALT-DESC;FMTTYPE=text/html:Weitere Informationen finden Sie hier: https://www.vhsbb.ch/kursprogramm/basel-295092/was-ist-eigentlich-adhs-297678
LAST-MODIFIED:20260421T080448Z
LOCATION:Universität Basel, Kollegienhaus, Petersplatz 1, Basel
SEQUENCE:0
STATUS:CONFIRMED
SUMMARY:Termin vom Kurs: Was ist eigentlich... ADHS?
TRANSP:OPAQUE
END:VEVENT
BEGIN:VEVENT
DTSTART:20260505T161500Z
DTEND:20260505T180000Z
DTSTAMP:20260421T080448Z
UID:b934b649-5373-4bd0-9d10-20d49f7b127f
CREATED:20260421T080448Z
X-ALT-DESC;FMTTYPE=text/html:Weitere Informationen finden Sie hier: https://www.vhsbb.ch/kursprogramm/basel-295092/was-ist-eigentlich-adhs-297678
LAST-MODIFIED:20260421T080448Z
LOCATION:Universität Basel, Kollegienhaus, Petersplatz 1, Basel
SEQUENCE:0
STATUS:CONFIRMED
SUMMARY:Termin vom Kurs: Was ist eigentlich... ADHS?
TRANSP:OPAQUE
END:VEVENT
BEGIN:VEVENT
DTSTART:20260512T161500Z
DTEND:20260512T180000Z
DTSTAMP:20260421T080448Z
UID:bc784127-6a7a-4e67-bbdd-6d3b791e8cf8
CREATED:20260421T080448Z
X-ALT-DESC;FMTTYPE=text/html:Weitere Informationen finden Sie hier: https://www.vhsbb.ch/kursprogramm/basel-295092/was-ist-eigentlich-adhs-297678
LAST-MODIFIED:20260421T080448Z
LOCATION:Universität Basel, Kollegienhaus, Petersplatz 1, Basel
SEQUENCE:0
STATUS:CONFIRMED
SUMMARY:Termin vom Kurs: Was ist eigentlich... ADHS?
TRANSP:OPAQUE
END:VEVENT
END:VCALENDAR
